BEGIN:VCALENDAR
BEGIN:VEVENT
SUMMARY:FourOneOne presents: أحمد [Ahmed] (Pat Thomas\, Seymour Wright
 \, Joel Grip\, Antonin Gerbal)\, Night #3/3 [nycnoise]
DTSTART:20260222T010000Z
DTEND:20260222T020000Z
UID:5f6ad878-a612-4dd9-9384-1205e7ee3191
CREATED:20260425T145108Z
DESCRIPTION:7:30pm doors
LOCATION:shapeshifter lab (837 Union St\, Brooklyn\, NY 11215)
END:VEVENT
END:VCALENDAR
