BEGIN:VCALENDAR
BEGIN:VEVENT
SUMMARY:Striped Light presents: John King & Leyya Mona Tawil\, Jack Langdo
 n\, Jennifer Gersten [nycnoise]
DTSTART:20260217T010000Z
DTEND:20260217T020000Z
UID:75a6e04b-4ed0-4f9a-ad09-96e7b591e7b2
CREATED:20260425T145329Z
DESCRIPTION:7:30pm doors\; SL curated by Ian Douglas-Moore\, Jessica Pavon
 e\, David Watson
LOCATION:striped light
END:VEVENT
END:VCALENDAR
