BEGIN:VCALENDAR
BEGIN:VEVENT
SUMMARY:Wet Spot Presents: PARFAIT [Drag Comedy Music] [nycnoise]
DTSTART:20260315T223000Z
DTEND:20260315T233000Z
UID:208ce463-a20a-4b30-be88-19543268f559
CREATED:20260425T130958Z
DESCRIPTION:🇵🇸 PACBI (wet spot) +++&nbsp\;music partygirl\, host Pea
 ch Bellini\,&nbsp\;drag Bri.Joy &amp\; Vape Kid Jr.\, comedy Esther Fallic
 k
LOCATION:parkside lounge (317 e. houston st.\, manhattan)
END:VEVENT
END:VCALENDAR
