BEGIN:VCALENDAR
BEGIN:VEVENT
SUMMARY:Women’s History Museum & Lu Yang Closing: Lizzi Bougatsos [nycn
 oise]
DTSTART:20260214T000000Z
DTEND:20260214T010000Z
UID:17629ae3-b86d-491a-899e-addd1307e9a6
CREATED:20260425T145237Z
DESCRIPTION:"doors will close 20 minutes after the start time"\; book laun
 ch &amp\; performance
LOCATION:amant 312 (312 Maujer St\, Brooklyn\, NY 11206)
END:VEVENT
END:VCALENDAR
