BEGIN:VCALENDAR
BEGIN:VEVENT
SUMMARY:The Jewelry Box: jo_sway\, Daniro\, Robyn DaBank\, Ether Pleaser [
 nycnoise]
DTSTART:20260203T030000Z
DTEND:20260203T040000Z
UID:95812341-3212-498a-a7f8-e9b71070069c
CREATED:20260425T145026Z
DESCRIPTION:
LOCATION:bossa nova civic club (1271 myrtle ave\, brooklyn)
END:VEVENT
END:VCALENDAR
