BEGIN:VCALENDAR
BEGIN:VEVENT
SUMMARY:FACETIME: Jasmine Infiniti\, cotton\, Simisola [nycnoise]
DTSTART:20260208T030000Z
DTEND:20260208T040000Z
UID:5c3d2320-f059-43eb-b8c4-bf0c2937ef56
CREATED:20260425T145148Z
DESCRIPTION:
LOCATION:bossa nova civic club (1271 myrtle ave\, brooklyn)
END:VEVENT
END:VCALENDAR
