BEGIN:VCALENDAR
BEGIN:VEVENT
SUMMARY:body//work VHS happy hour: masha latte\, Ah Dek\, JULESMCKOOLS [ny
 cnoise]
DTSTART:20260212T000000Z
DTEND:20260212T010000Z
UID:921553a6-f020-4bfd-b627-3e41dc133cf1
CREATED:20260425T145149Z
DESCRIPTION:
LOCATION:bossa nova civic club (1271 myrtle ave\, brooklyn)
END:VEVENT
END:VCALENDAR
