BEGIN:VCALENDAR
BEGIN:VEVENT
SUMMARY:dweller: DJ Miss Parker ALL NIGHT + Special Guest [nycnoise]
DTSTART:20260219T030000Z
DTEND:20260219T040000Z
UID:54229771-535a-4218-9c32-981ed3678c9c
CREATED:20260425T145150Z
DESCRIPTION:dweller!
LOCATION:bossa nova civic club (1271 myrtle ave\, brooklyn)
END:VEVENT
END:VCALENDAR
