BEGIN:VCALENDAR
BEGIN:VEVENT
SUMMARY:dweller x Underground&Black: Ash Lauryn\, AMX [nycnoise]
DTSTART:20260220T030000Z
DTEND:20260220T040000Z
UID:31b68161-3465-4eea-83dc-2688b3d7a5b9
CREATED:20260425T145110Z
DESCRIPTION:dweller: about + full
LOCATION:bossa nova civic club (1271 myrtle ave\, brooklyn)
END:VEVENT
END:VCALENDAR
