BEGIN:VCALENDAR
BEGIN:VEVENT
SUMMARY:dweller: Carlos Souffront All Night [nycnoise]
DTSTART:20260223T030000Z
DTEND:20260223T040000Z
UID:28ab45f7-68db-4b01-bcc6-b31d22eb9bb4
CREATED:20260425T145328Z
DESCRIPTION:dweller: about + full
LOCATION:bossa nova civic club (1271 myrtle ave\, brooklyn)
END:VEVENT
END:VCALENDAR
