BEGIN:VCALENDAR
BEGIN:VEVENT
SUMMARY:Pataphysics 017: Sean Smith\, Sabina Hahn\, Ezekiel Honig\, Joshue
  Ott\, Todd Polenberg [nycnoise]
DTSTART:20260201T010000Z
DTEND:20260201T020000Z
UID:7156c9e9-c810-4e0c-8df7-756444744b96
CREATED:20260425T165040Z
DESCRIPTION:
LOCATION:delight factory (303 Saratoga Ave\, Brooklyn\, NY 11233)
END:VEVENT
END:VCALENDAR
