BEGIN:VCALENDAR
BEGIN:VEVENT
SUMMARY:Bellcave: Tacet (Graham Lampe\, Caroline Morton\, Sean Lawson McCa
 be Teems)\, Melissa Almaguer + Micah Thomas\, Francesca H. [nycnoise]
DTSTART:20260221T000000Z
DTEND:20260221T010000Z
UID:d75708cd-bad0-47f1-84b2-209adc9f1db9
CREATED:20260425T145236Z
DESCRIPTION:
LOCATION:bellcave
END:VEVENT
END:VCALENDAR
