BEGIN:VCALENDAR
BEGIN:VEVENT
SUMMARY:Loove Electronics Series: Ben Stapp\, Frank London Electronics Tri
 o (w/ Knox Chandler\, Stapp) [nycnoise]
DTSTART:20260208T230000Z
DTEND:20260209T000000Z
UID:d5764b01-88cb-4219-a6af-f051f37cfbfa
CREATED:20260425T145023Z
DESCRIPTION:
LOCATION:loove annex (238 N 12th St\, Brooklyn\, NY 11211)
END:VEVENT
END:VCALENDAR
