BEGIN:VCALENDAR
BEGIN:VEVENT
SUMMARY:Pass the Aux: Currency Audio\, Slime Bubble [nycnoise]
DTSTART:20260202T010000Z
DTEND:20260202T020000Z
UID:c2d1d80b-89d4-4900-bcb7-e35fd80227b5
CREATED:20260425T145239Z
DESCRIPTION:"collaborative audiovisual experience"
LOCATION:brooklyn brewery (79 N 11th St\, Brooklyn\, NY 11249)
END:VEVENT
END:VCALENDAR
