BEGIN:VCALENDAR
BEGIN:VEVENT
SUMMARY:Mitch Selib New Quartet\, Brandon Seabrook\, Nick Pennington Trio 
 [nycnoise]
DTSTART:20260216T003000Z
DTEND:20260216T013000Z
UID:bcb5d0ba-e154-4534-b852-f8d914797c92
CREATED:20260425T145330Z
DESCRIPTION:
LOCATION:threes brewing (333 douglass st.\, brooklyn)
END:VEVENT
END:VCALENDAR
