BEGIN:VCALENDAR
BEGIN:VEVENT
SUMMARY:Century Gun\, FARADAYRIBCAGE\, The ID\, DAMMITBOOSTER\, MURDERPACT
  [nycnoise]
DTSTART:20260220T010000Z
DTEND:20260220T020000Z
UID:665f6568-7774-4154-aa68-989002a81b87
CREATED:20260425T145330Z
DESCRIPTION:
LOCATION:hart bar (538 hart st.\, brooklyn)
END:VEVENT
END:VCALENDAR
