BEGIN:VCALENDAR
BEGIN:VEVENT
SUMMARY:Steve Long & Nate Wooley\, Elias Stemeseder\, Period Piece [nycnoi
 se]
DTSTART:20260214T003000Z
DTEND:20260214T013000Z
UID:54165203-ada4-44a5-8a2c-29841fd20816
CREATED:20260425T145329Z
DESCRIPTION:7pm doors
LOCATION:st. michael's church (225 W 99th St\, New York\, NY 10025)
END:VEVENT
END:VCALENDAR
