BEGIN:VCALENDAR
BEGIN:VEVENT
SUMMARY:Crush Fund\, Avatareden\, First President of Japan\, Malparido [ny
 cnoise]
DTSTART:20260209T010000Z
DTEND:20260209T020000Z
UID:cfe3442e-72cc-4608-b5f8-c71d60aea521
CREATED:20260425T144858Z
DESCRIPTION:7pm doors
LOCATION:trans-pecos (9-15 wyckoff ave\, ridgewood)
END:VEVENT
END:VCALENDAR
