BEGIN:VCALENDAR
BEGIN:VEVENT
SUMMARY:Helltekk Presents Tekkual Healing 4: Neurokill\, Fortified Structu
 res\, Fuckthepsychs\, Perna\, Spine [nycnoise]
DTSTART:20260215T040000Z
DTEND:20260215T050000Z
UID:05ed8a64-ed96-4b80-99f8-ab756d097c5a
CREATED:20260425T145329Z
DESCRIPTION:
LOCATION:trans-pecos (9-15 wyckoff ave\, ridgewood)
END:VEVENT
END:VCALENDAR
