BEGIN:VCALENDAR
BEGIN:VEVENT
SUMMARY:Critical Hit: Yaz Lancaster (DJ)\, CMD+Jazmine\, Malice of Wonderl
 and\, Deathrayz\, Soo Intoit [nycnoise]
DTSTART:20260214T040000Z
DTEND:20260214T050000Z
UID:ce3f2d0a-6564-4bc3-9aac-c68d5c1b3ae0
CREATED:20260425T144942Z
DESCRIPTION:
LOCATION:trans-pecos (9-15 wyckoff ave\, ridgewood)
END:VEVENT
END:VCALENDAR
