BEGIN:VCALENDAR
BEGIN:VEVENT
SUMMARY:Chthonic Streams presents: Flose\, Dahjyn\, Bit Rot\, Walkies\, Un
 feeling [nycnoise]
DTSTART:20260222T220000Z
DTEND:20260222T230000Z
UID:1b39b54a-fe23-4c23-b0a7-4febc5d9d7f9
CREATED:20260425T144941Z
DESCRIPTION:"Noise / Experimental / Dark Ambient"
LOCATION:fringe records (656 Woodward Ave\, Ridgewood\, NY 11385)
END:VEVENT
END:VCALENDAR
