BEGIN:VCALENDAR
BEGIN:VEVENT
SUMMARY:New Dark Ages presents: MRSA\, Final Heaven\, Mars Ultor [nycnoise
 ]
DTSTART:20260307T000000Z
DTEND:20260307T010000Z
UID:9df6a69e-bdcc-4788-b524-da551f4db484
CREATED:20260425T130551Z
DESCRIPTION:(thanks s for catching that i had the wrong spot!)
LOCATION:bunker l.i.c. (22-03 Jackson Ave\, Long Island City\, NY 11101)
END:VEVENT
END:VCALENDAR
