BEGIN:VCALENDAR
BEGIN:VEVENT
SUMMARY:Mississippi Records will Present Sounds [nycnoise]
DTSTART:20260206T000000Z
DTEND:20260206T010000Z
UID:7dd0c7aa-2bf4-4617-a1c1-862ccad53f24
CREATED:20260425T144900Z
DESCRIPTION:🌀 notaflof work trade\; 🧣 dress warm
LOCATION:light & sound design
END:VEVENT
END:VCALENDAR
