BEGIN:VCALENDAR
BEGIN:VEVENT
SUMMARY:Aquasonic: Echor\, Nema Hän\, Rafa [nycnoise]
DTSTART:20260207T000000Z
DTEND:20260207T010000Z
UID:1c0d741c-becb-4c0e-bbae-f12aeebb5130
CREATED:20260425T145026Z
DESCRIPTION:🌀 notaflof work trade\; 🧣 dress warm
LOCATION:light & sound design
END:VEVENT
END:VCALENDAR
