BEGIN:VCALENDAR
BEGIN:VEVENT
SUMMARY:Daniel Rossi\, Neta Raanan\, Kevin Eichenberger [nycnoise]
DTSTART:20260224T000000Z
DTEND:20260224T010000Z
UID:2010e490-670b-4475-b722-aa5b61bb71d5
CREATED:20260425T144940Z
DESCRIPTION:
LOCATION:brothers wash & dry laundromat (5420 nurge ave\, queens)
END:VEVENT
END:VCALENDAR
