BEGIN:VCALENDAR
BEGIN:VEVENT
SUMMARY:Tashi Dorji\, Lesley Mok\, Leo Chang\, Che Chen\, Alex Zhang Hungt
 ai [nycnoise]
DTSTART:20260202T003000Z
DTEND:20260202T013000Z
UID:10953bdf-487c-454a-91f7-777b1baa3be6
CREATED:20260425T144858Z
DESCRIPTION:"2 sets\, mixed groupings"
LOCATION:cassette (68-38 forest ave bsmt\, ridgewood)
END:VEVENT
END:VCALENDAR
