BEGIN:VCALENDAR
BEGIN:VEVENT
SUMMARY:Mutual Benefit\, Alice Does Computer Music\, Jadelain\, Joan Kelse
 y [nycnoise]
DTSTART:20260213T010000Z
DTEND:20260213T020000Z
UID:394e138b-cf5b-4e02-8cef-5266c0b6f92c
CREATED:20260425T145023Z
DESCRIPTION:7:30pm doors
LOCATION:cassette (68-38 forest ave bsmt\, ridgewood)
END:VEVENT
END:VCALENDAR
