BEGIN:VCALENDAR
BEGIN:VEVENT
SUMMARY:Tasha (Night #2/2)\, Talk Bazaar [nycnoise]
DTSTART:20260215T013000Z
DTEND:20260215T023000Z
UID:1027545d-6bad-4406-a97c-108389e59ce1
CREATED:20260425T145022Z
DESCRIPTION:7:30pm doors
LOCATION:cassette (68-38 forest ave bsmt\, ridgewood)
END:VEVENT
END:VCALENDAR
