BEGIN:VCALENDAR
BEGIN:VEVENT
SUMMARY:Melissa Almaguer & Micah Thomas [nycnoise]
DTSTART:20260219T003000Z
DTEND:20260219T013000Z
UID:dc19594e-bf09-4bd0-a41e-57d9051e442e
CREATED:20260425T144939Z
DESCRIPTION:7:30pm tix + 9pm tix
LOCATION:close up jazz (154 Orchard St\, New York\, NY 10002\, United Stat
 es)
END:VEVENT
END:VCALENDAR
