BEGIN:VCALENDAR
BEGIN:VEVENT
SUMMARY:Luminescence\, Day #2/3: Carmen Quill: Set & Session [nycnoise]
DTSTART:20260301T043000Z
DTEND:20260301T053000Z
UID:164e266f-60c9-4df0-a04f-7bea15752297
CREATED:20260425T145023Z
DESCRIPTION:
LOCATION:close up jazz (154 Orchard St\, New York\, NY 10002\, United Stat
 es)
END:VEVENT
END:VCALENDAR
