BEGIN:VCALENDAR
BEGIN:VEVENT
SUMMARY:Luminescence\, Day #3/3: Cleo Reed [nycnoise]
DTSTART:20260302T000000Z
DTEND:20260302T010000Z
UID:0509c7dd-842f-4aa8-a7d9-c86890940836
CREATED:20260425T130734Z
DESCRIPTION:
LOCATION:close up jazz (154 Orchard St\, New York\, NY 10002\, United Stat
 es)
END:VEVENT
END:VCALENDAR
