BEGIN:VCALENDAR
BEGIN:VEVENT
SUMMARY:Yvonne Rogers: Set & Session [nycnoise]
DTSTART:20260220T033000Z
DTEND:20260220T043000Z
UID:b195eb33-42c6-40ad-b150-fe489636552e
CREATED:20260425T144900Z
DESCRIPTION:10:30pm set\, 11:30pm session
LOCATION:close up jazz (154 Orchard St\, New York\, NY 10002\, United Stat
 es)
END:VEVENT
END:VCALENDAR
