BEGIN:VCALENDAR
BEGIN:VEVENT
SUMMARY:ABC NO RIO Valentine Benefit: Universal Girlfriend\, Anna Altman\,
  Shitlove\, Cristy Road [nycnoise]
DTSTART:20260214T230000Z
DTEND:20260215T000000Z
UID:eea6f2a1-4a03-4c37-9c65-41a7307a8c60
CREATED:20260425T145107Z
DESCRIPTION:
LOCATION:p.i.t. (property is theft) (411 s. 5th st.\, brooklyn)
END:VEVENT
END:VCALENDAR
