BEGIN:VCALENDAR
BEGIN:VEVENT
SUMMARY:Hans Tammen pres. Loose Talk: Ximena Bedoya & Shahzad Ismaily\, Ha
 ns Tammen reads Beuys\, On Ka'a Davis' N7th (w/ Ali Ali\, Theo Woodward\, 
 Trae Crudup) [nycnoise]
DTSTART:20260217T000000Z
DTEND:20260217T010000Z
UID:45c96658-d696-49eb-bdf1-bb53a24a93c3
CREATED:20260425T145236Z
DESCRIPTION:4th set is "open jam"
LOCATION:main drag (50 s. 1st st.\, brooklyn)
END:VEVENT
END:VCALENDAR
