BEGIN:VCALENDAR
BEGIN:VEVENT
SUMMARY:Yard\, Kabuki Love\, Call You Out [nycnoise]
DTSTART:20260220T010000Z
DTEND:20260220T020000Z
UID:7f3b3c6f-c6ae-45e0-a148-42404c5476e0
CREATED:20260425T145150Z
DESCRIPTION:
LOCATION:main drag (50 s. 1st st.\, brooklyn)
END:VEVENT
END:VCALENDAR
