BEGIN:VCALENDAR
BEGIN:VEVENT
SUMMARY:CHOLO\, Oof\, Hard Job [nycnoise]
DTSTART:20260322T200000Z
DTEND:20260322T210000Z
UID:a64e4daf-5370-489a-8900-5b428288120f
CREATED:20260425T131247Z
DESCRIPTION:
LOCATION:mama tried (787 3rd ave\, brooklyn)
END:VEVENT
END:VCALENDAR
