BEGIN:VCALENDAR
BEGIN:VEVENT
SUMMARY:Celine Kang & Ches Smith\, Sunjay Jayaram / Stan Zenkov / Caroline
  Morton / Paul Sakai [nycnoise]
DTSTART:20260212T000000Z
DTEND:20260212T010000Z
UID:ba1ee988-6e8e-41b3-afc7-4b9de60a91e3
CREATED:20260425T144859Z
DESCRIPTION:
LOCATION:nublu 151 (151 ave c\, manhattan)
END:VEVENT
END:VCALENDAR
