BEGIN:VCALENDAR
BEGIN:VEVENT
SUMMARY:Burnt Sugar: SmokeHouse Tues #3/4: BSAC conducted by LaFrae Sci 
 – NuBlu Conduction #3\, Ben Tyree’s Activator Trio\, The Binky Griptit
 e Orchestra\, DJ Sugafree BK & DJ Smoota\, MC LaRonda Davis [nycnoise]
DTSTART:20260317T230000Z
DTEND:20260318T000000Z
UID:a15230e6-6f5b-4a8c-af1a-6efdb13a1930
CREATED:20260425T130550Z
DESCRIPTION:BSAC: Burnt Sugar the Arkestra Chamber
LOCATION:nublu 151 (151 ave c\, manhattan)
END:VEVENT
END:VCALENDAR
