BEGIN:VCALENDAR
BEGIN:VEVENT
SUMMARY:Burnt Sugar: SmokeHouse Tues #4/4: BSAC conducted by Vernon Reid 
 – NuBlu Conduction #4\, The Tao of Abby Lincoln (ft. Shelley Nicole\, La
 Frae Sci)\, Marque Gilmore tha’ inna•most\, DJ Sugafree BK & DJ Smoota
 \, MC LaRonda Davis [nycnoise]
DTSTART:20260331T230000Z
DTEND:20260401T000000Z
UID:83223271-90ef-4027-8a28-71130e47842f
CREATED:20260425T130959Z
DESCRIPTION:BSAC: Burnt Sugar the Arkestra Chamber
LOCATION:nublu 151 (151 ave c\, manhattan)
END:VEVENT
END:VCALENDAR
