BEGIN:VCALENDAR
BEGIN:VEVENT
SUMMARY:Stereo Mandrax: Upper Wilds\, GoJuMo\, Michael R Bernstein [nycnoi
 se]
DTSTART:20260302T000000Z
DTEND:20260302T010000Z
UID:8daf662f-217a-4a5d-b974-c39a6aafa6b3
CREATED:20260425T130727Z
DESCRIPTION:free w/ rsvp
LOCATION:pianos (158 Ludlow St\, New York\, NY 10002)
END:VEVENT
END:VCALENDAR
