BEGIN:VCALENDAR
BEGIN:VEVENT
SUMMARY:Stereo Mandrax: Council Of Foreign Relations\, Excepter\, Marcia B
 assett + Taralie Peterson [nycnoise]
DTSTART:20260315T230000Z
DTEND:20260316T000000Z
UID:85e94c0d-d62f-4491-8575-6e19d0046915
CREATED:20260425T130550Z
DESCRIPTION:free w/ rsvp
LOCATION:pianos (158 Ludlow St\, New York\, NY 10002)
END:VEVENT
END:VCALENDAR
