BEGIN:VCALENDAR
BEGIN:VEVENT
SUMMARY:Stereo Mandrax: Pink Must\, Animal Surrender\, Jeff Tobias [nycnoi
 se]
DTSTART:20260322T230000Z
DTEND:20260323T000000Z
UID:3d631ef7-48ee-4777-b784-759ec0ed2eb0
CREATED:20260425T130550Z
DESCRIPTION:free w/ rsvp
LOCATION:pianos (158 Ludlow St\, New York\, NY 10002)
END:VEVENT
END:VCALENDAR
