BEGIN:VCALENDAR
BEGIN:VEVENT
SUMMARY:James Corrigan's Take Time\, MH\, OOF [nycnoise]
DTSTART:20260221T013000Z
DTEND:20260221T023000Z
UID:c7a9f31e-4302-437f-a59a-bb0775dd670f
CREATED:20260425T144941Z
DESCRIPTION:
LOCATION:footlight at windjammer (552 grandview ave\, ridgewood)
END:VEVENT
END:VCALENDAR
