BEGIN:VCALENDAR
BEGIN:VEVENT
SUMMARY:Matt Connors listens to Jessica Williams (ft. Lori Scacco\, Adam T
 endler) [nycnoise]
DTSTART:20260220T000000Z
DTEND:20260220T010000Z
UID:3ee72057-f0dd-4270-b697-842f9b2c0249
CREATED:20260425T144858Z
DESCRIPTION:listening session for JW's 'Blue Abstraction\," "invites [AT &
 amp\; LS] to share their own live interpellations"
LOCATION:giorno poetry systems (222 bowery\, manhattan)
END:VEVENT
END:VCALENDAR
