BEGIN:VCALENDAR
BEGIN:VEVENT
SUMMARY:Eli Wallace / Joe Moffett / Michael Foster (Album Release)\, Saman
 tha Kochis & Kevin Murray [nycnoise]
DTSTART:20260218T003000Z
DTEND:20260218T013000Z
UID:57f0d056-99e5-4368-a7d5-6800ce97ab23
CREATED:20260425T145110Z
DESCRIPTION:album on bandcamp
LOCATION:record shop (360 van brunt st.\, brooklyn)
END:VEVENT
END:VCALENDAR
