BEGIN:VCALENDAR
BEGIN:VEVENT
SUMMARY:Sad Cactus 12th Birthday: fif (album release)\, Jinzo\, Rose House
 \, super secret special guest [nycnoise]
DTSTART:20260228T000000Z
DTEND:20260228T010000Z
UID:df71dd0c-bf91-484e-af4b-fed18f119a8e
CREATED:20260425T144942Z
DESCRIPTION:fif = Fiona Gurney (w/ Danny Sher)\; cassette presale\, previe
 w tracks on fif bandcamp (i didn't know fiona sings!)
LOCATION:purgatory (675 central ave\, brooklyn)
END:VEVENT
END:VCALENDAR
