BEGIN:VCALENDAR
BEGIN:VEVENT
SUMMARY:Paris Archives\, Patching\, Untitled Freak\, Speedfriending [nycno
 ise]
DTSTART:20260219T000000Z
DTEND:20260219T010000Z
UID:2904979b-8aaf-4ec6-bc49-20dcc6a9f160
CREATED:20260425T144900Z
DESCRIPTION:
LOCATION:purgatory (675 central ave\, brooklyn)
END:VEVENT
END:VCALENDAR
