BEGIN:VCALENDAR
BEGIN:VEVENT
SUMMARY:LAVA\, Cemetery Girl\, A Total Wreck\, Lake Lanier\, Samara Slaugh
 ter [nycnoise]
DTSTART:20260425T230000Z
DTEND:20260426T000000Z
UID:f8a711ab-2166-494e-95d8-aecf622179f0
CREATED:20260425T091424Z
DESCRIPTION:
LOCATION:purgatory (675 central ave\, brooklyn)
END:VEVENT
END:VCALENDAR
