BEGIN:VCALENDAR
BEGIN:VEVENT
SUMMARY:Sugarlife\, Irrevery\, Highman & Metalfunkel [nycnoise]
DTSTART:20260205T000000Z
DTEND:20260205T010000Z
UID:2efd55dc-aad5-4691-8b3f-c6ffc14b6e15
CREATED:20260425T145329Z
DESCRIPTION:
LOCATION:sleepwalk (251 bushwick ave\, brooklyn)
END:VEVENT
END:VCALENDAR
