BEGIN:VCALENDAR
BEGIN:VEVENT
SUMMARY:Oldest Sea\, Wreckmeister Harmonies\, Psalm [nycnoise]
DTSTART:20260222T000000Z
DTEND:20260222T010000Z
UID:bf00b327-aaec-4032-a7c2-bf0e086892e0
CREATED:20260425T145110Z
DESCRIPTION:
LOCATION:stone circle at ridgewood presby (59-14 70th ave\, ridgewood)
END:VEVENT
END:VCALENDAR
